BEGIN:VCALENDAR
VERSION:2.0
PRODID:-//Davan Enterprises - ECPv6.13.2.1//NONSGML v1.0//EN
CALSCALE:GREGORIAN
METHOD:PUBLISH
X-WR-CALNAME:Davan Enterprises
X-ORIGINAL-URL:https://davanenterprises.com
X-WR-CALDESC:Events for Davan Enterprises
REFRESH-INTERVAL;VALUE=DURATION:PT1H
X-Robots-Tag:noindex
X-PUBLISHED-TTL:PT1H
BEGIN:VTIMEZONE
TZID:America/New_York
BEGIN:DAYLIGHT
TZOFFSETFROM:-0500
TZOFFSETTO:-0400
TZNAME:EDT
DTSTART:20250309T070000
END:DAYLIGHT
BEGIN:STANDARD
TZOFFSETFROM:-0400
TZOFFSETTO:-0500
TZNAME:EST
DTSTART:20251102T060000
END:STANDARD
END:VTIMEZONE
BEGIN:VEVENT
DTSTART;TZID=America/New_York:20250805T113000
DTEND;TZID=America/New_York:20250805T130000
DTSTAMP:20260420T133323
CREATED:20250702T150510Z
LAST-MODIFIED:20250805T163204Z
UID:2587-1754393400-1754398800@davanenterprises.com
SUMMARY:IBN - Boones Creek
DESCRIPTION:
URL:https://davanenterprises.com/event/ibn-boones-creek/
LOCATION:Holy Taco Boones Creek
END:VEVENT
BEGIN:VEVENT
DTSTART;TZID=America/New_York:20250805T113000
DTEND;TZID=America/New_York:20250805T130000
DTSTAMP:20260420T133323
CREATED:20250702T150510Z
LAST-MODIFIED:20250702T150510Z
UID:2589-1754393400-1754398800@davanenterprises.com
SUMMARY:IBN - Boones Creek
DESCRIPTION:
URL:https://davanenterprises.com/event/ibn-boones-creek-2/
LOCATION:Holy Taco Boones Creek
END:VEVENT
BEGIN:VEVENT
DTSTART;TZID=America/New_York:20250805T120000
DTEND;TZID=America/New_York:20250805T130000
DTSTAMP:20260420T133323
CREATED:20250703T150652Z
LAST-MODIFIED:20250805T163204Z
UID:2866-1754395200-1754398800@davanenterprises.com
SUMMARY:Senior Resource Meeting
DESCRIPTION:
URL:https://davanenterprises.com/event/senior-resource-meeting/
LOCATION:El Burrito Loco Richlands\, VA
END:VEVENT
BEGIN:VEVENT
DTSTART;TZID=America/New_York:20250805T173000
DTEND;TZID=America/New_York:20250805T190000
DTSTAMP:20260420T133323
CREATED:20250702T150510Z
LAST-MODIFIED:20250805T163205Z
UID:2591-1754415000-1754420400@davanenterprises.com
SUMMARY:IBN Evening Social
DESCRIPTION:
URL:https://davanenterprises.com/event/ibn-evening-social/
LOCATION:Tennessee Hills Distillery Bristol\, TN
END:VEVENT
END:VCALENDAR