BEGIN:VCALENDAR
VERSION:2.0
PRODID:-//Davan Enterprises - ECPv6.13.2.1//NONSGML v1.0//EN
CALSCALE:GREGORIAN
METHOD:PUBLISH
X-ORIGINAL-URL:https://davanenterprises.com
X-WR-CALDESC:Events for Davan Enterprises
REFRESH-INTERVAL;VALUE=DURATION:PT1H
X-Robots-Tag:noindex
X-PUBLISHED-TTL:PT1H
BEGIN:VTIMEZONE
TZID:America/New_York
BEGIN:DAYLIGHT
TZOFFSETFROM:-0500
TZOFFSETTO:-0400
TZNAME:EDT
DTSTART:20250309T070000
END:DAYLIGHT
BEGIN:STANDARD
TZOFFSETFROM:-0400
TZOFFSETTO:-0500
TZNAME:EST
DTSTART:20251102T060000
END:STANDARD
END:VTIMEZONE
BEGIN:VEVENT
DTSTART;TZID=America/New_York:20251216T090000
DTEND;TZID=America/New_York:20251216T103000
DTSTAMP:20260420T073858
CREATED:20250702T150517Z
LAST-MODIFIED:20250702T150533Z
UID:2644-1765875600-1765881000@davanenterprises.com
SUMMARY:Senior Networking
DESCRIPTION:
URL:https://davanenterprises.com/event/senior-networking-13/
LOCATION:English Meados Abingdon
END:VEVENT
BEGIN:VEVENT
DTSTART;TZID=America/New_York:20251216T100000
DTEND;TZID=America/New_York:20251216T113000
DTSTAMP:20260420T073858
CREATED:20250703T150656Z
LAST-MODIFIED:20251215T235315Z
UID:2889-1765879200-1765884600@davanenterprises.com
SUMMARY:Senior Networking
DESCRIPTION:
URL:https://davanenterprises.com/event/senior-networking-32/
LOCATION:English Meados Abingdon
END:VEVENT
BEGIN:VEVENT
DTSTART;TZID=America/New_York:20251216T113000
DTEND;TZID=America/New_York:20251216T130000
DTSTAMP:20260420T073858
CREATED:20250702T150517Z
LAST-MODIFIED:20251215T235315Z
UID:2645-1765884600-1765890000@davanenterprises.com
SUMMARY:IBN - Bristol
DESCRIPTION:
URL:https://davanenterprises.com/event/ibn-bristol-7/
LOCATION:Drakes at Pinnacle
END:VEVENT
END:VCALENDAR